BEGIN:VCALENDAR
VERSION:2.0
PRODID:-//Productivity Engineering Europe Company | Lean Six Sigma Business Process Excellence Training - ECPv6.15.20//NONSGML v1.0//EN
CALSCALE:GREGORIAN
METHOD:PUBLISH
X-WR-CALNAME:Productivity Engineering Europe Company | Lean Six Sigma Business Process Excellence Training
X-ORIGINAL-URL:https://productivity-engineering.eu
X-WR-CALDESC:Events for Productivity Engineering Europe Company | Lean Six Sigma Business Process Excellence Training
REFRESH-INTERVAL;VALUE=DURATION:PT1H
X-Robots-Tag:noindex
X-PUBLISHED-TTL:PT1H
BEGIN:VTIMEZONE
TZID:Europe/Brussels
BEGIN:DAYLIGHT
TZOFFSETFROM:+0100
TZOFFSETTO:+0200
TZNAME:CEST
DTSTART:20250330T010000
END:DAYLIGHT
BEGIN:STANDARD
TZOFFSETFROM:+0200
TZOFFSETTO:+0100
TZNAME:CET
DTSTART:20251026T010000
END:STANDARD
BEGIN:DAYLIGHT
TZOFFSETFROM:+0100
TZOFFSETTO:+0200
TZNAME:CEST
DTSTART:20260329T010000
END:DAYLIGHT
BEGIN:STANDARD
TZOFFSETFROM:+0200
TZOFFSETTO:+0100
TZNAME:CET
DTSTART:20261025T010000
END:STANDARD
BEGIN:DAYLIGHT
TZOFFSETFROM:+0100
TZOFFSETTO:+0200
TZNAME:CEST
DTSTART:20270328T010000
END:DAYLIGHT
BEGIN:STANDARD
TZOFFSETFROM:+0200
TZOFFSETTO:+0100
TZNAME:CET
DTSTART:20271031T010000
END:STANDARD
BEGIN:DAYLIGHT
TZOFFSETFROM:+0100
TZOFFSETTO:+0200
TZNAME:CEST
DTSTART:20280326T010000
END:DAYLIGHT
BEGIN:STANDARD
TZOFFSETFROM:+0200
TZOFFSETTO:+0100
TZNAME:CET
DTSTART:20281029T010000
END:STANDARD
END:VTIMEZONE
BEGIN:VEVENT
DTSTART;VALUE=DATE:20260413
DTEND;VALUE=DATE:20260418
DTSTAMP:20260424T021305
CREATED:20250920T141303Z
LAST-MODIFIED:20250920T141303Z
UID:9009-1776038400-1776470399@productivity-engineering.eu
SUMMARY:The Netherlands – Green Belt @Sint Michielsgestel
DESCRIPTION:This training has two components: a practical part and a theoretical part. For certification both parts are necessary. The practical part concerns successfully supporting a Lean Six Sigma project. The theoretical part includes the necessary training. An assessment of 25 questions is used to review and determine whether the candidate has sufficiently proven knowledge of Lean Six Sigma. \nAt the end of the training the participant is able to: \n\nsupport teams in applying the Lean Six Sigma DMAIC\ndefine project improvements\nmeasure input and output in order to generate relevant data\nimprove the process to minimise variations
URL:https://productivity-engineering.eu/calendar/the-netherlands-green-belt-sint-michielsgestel-6/
LOCATION:Hotel De Ruwenberg\, Ruwenbergstraat 7\, Sint-Michielsgestel\, 5271 AG\, Netherlands
CATEGORIES:Lean Six Sigma Green Belt
END:VEVENT
BEGIN:VEVENT
DTSTART;VALUE=DATE:20260420
DTEND;VALUE=DATE:20260425
DTSTAMP:20260424T021305
CREATED:20250920T155939Z
LAST-MODIFIED:20250920T160239Z
UID:9040-1776643200-1777075199@productivity-engineering.eu
SUMMARY:The Netherlands - Black Belt @Sint Michielsgestel
DESCRIPTION:This training has two components: a practical part and a theoretical part. For certification\, completion of both parts are required. The practical part involves participation in a successful Lean Six Sigma project. The theoretical part covers the necessary training. The final evaluation is based on an assessment consisting of 50 questions to determine if the candidate has sufficient knowledge of Lean Six Sigma. Green Belt certification is required in order to participate in the Black Belt training — an initial evaluation may be required. \nAt the end of the training the participant is able to: \n\nmanage teams applying the Lean Six Sigma DMAIC\nidentify areas for project improvement\nmeasure input and output to collect essential data points\nimprove the process with minimal variation.
URL:https://productivity-engineering.eu/calendar/the-netherlands-black-belt-sint-michielsgestel-7/
LOCATION:Hotel De Ruwenberg\, Ruwenbergstraat 7\, Sint-Michielsgestel\, 5271 AG\, Netherlands
CATEGORIES:Lean Six Sigma Black Belt
END:VEVENT
BEGIN:VEVENT
DTSTART;VALUE=DATE:20260608
DTEND;VALUE=DATE:20260613
DTSTAMP:20260424T021305
CREATED:20250920T144412Z
LAST-MODIFIED:20250920T144412Z
UID:9014-1780876800-1781308799@productivity-engineering.eu
SUMMARY:The Netherlands – Green Belt @Sint Michielsgestel
DESCRIPTION:This training has two components: a practical part and a theoretical part. For certification both parts are necessary. The practical part concerns successfully supporting a Lean Six Sigma project. The theoretical part includes the necessary training. An assessment of 25 questions is used to review and determine whether the candidate has sufficiently proven knowledge of Lean Six Sigma. \nAt the end of the training the participant is able to: \n\nsupport teams in applying the Lean Six Sigma DMAIC\ndefine project improvements\nmeasure input and output in order to generate relevant data\nimprove the process to minimise variations
URL:https://productivity-engineering.eu/calendar/the-netherlands-green-belt-sint-michielsgestel-7/
LOCATION:Hotel De Ruwenberg\, Ruwenbergstraat 7\, Sint-Michielsgestel\, 5271 AG\, Netherlands
CATEGORIES:Lean Six Sigma Green Belt
END:VEVENT
BEGIN:VEVENT
DTSTART;VALUE=DATE:20260615
DTEND;VALUE=DATE:20260620
DTSTAMP:20260424T021305
CREATED:20250920T153521Z
LAST-MODIFIED:20250920T153521Z
UID:9034-1781481600-1781913599@productivity-engineering.eu
SUMMARY:UK - Green Belt @Wyboston
DESCRIPTION:This training has two components: a practical part and a theoretical part. For certification both parts are necessary. The practical part concerns successfully supporting a Lean Six Sigma project. The theoretical part includes the necessary training. An assessment of 25 questions is used to review and determine whether the candidate has sufficiently proven knowledge of Lean Six Sigma. \nAt the end of the training the participant is able to: \n\nsupport teams in applying the Lean Six Sigma DMAIC\ndefine project improvements\nmeasure input and output in order to generate relevant data\nimprove the process to minimise variations
URL:https://productivity-engineering.eu/calendar/uk-green-belt-wyboston-6/
LOCATION:Wyboston Lakes\, Great N Rd.\, Wyboston\, MK44 3AL\, United Kingdom
CATEGORIES:Lean Six Sigma Green Belt
END:VEVENT
BEGIN:VEVENT
DTSTART;VALUE=DATE:20260622
DTEND;VALUE=DATE:20260627
DTSTAMP:20260424T021305
CREATED:20250920T152121Z
LAST-MODIFIED:20250920T152121Z
UID:9028-1782086400-1782518399@productivity-engineering.eu
SUMMARY:UK – Black Belt @Wyboston
DESCRIPTION:This training has two components: a practical part and a theoretical part. For certification\, completion of both parts are required. The practical part involves participation in a successful Lean Six Sigma project. The theoretical part covers the necessary training. The final evaluation is based on an assessment consisting of 50 questions to determine if the candidate has sufficient knowledge of Lean Six Sigma. Green Belt certification is required in order to participate in the Black Belt training — an initial evaluation may be required. \nAt the end of the training the participant is able to: \n\nmanage teams applying the Lean Six Sigma DMAIC\nidentify areas for project improvement\nmeasure input and output to collect essential data points\nimprove the process with minimal variation.
URL:https://productivity-engineering.eu/calendar/uk-black-belt-wyboston-4/
LOCATION:Wyboston Lakes\, Great N Rd.\, Wyboston\, MK44 3AL\, United Kingdom
CATEGORIES:Lean Six Sigma Black Belt
END:VEVENT
BEGIN:VEVENT
DTSTART;VALUE=DATE:20260810
DTEND;VALUE=DATE:20260815
DTSTAMP:20260424T021305
CREATED:20250920T150721Z
LAST-MODIFIED:20250920T150721Z
UID:9022-1786320000-1786751999@productivity-engineering.eu
SUMMARY:The Netherlands - Black Belt @Sint Michielsgestel
DESCRIPTION:This training has two components: a practical part and a theoretical part. For certification\, completion of both parts are required. The practical part involves participation in a successful Lean Six Sigma project. The theoretical part covers the necessary training. The final evaluation is based on an assessment consisting of 50 questions to determine if the candidate has sufficient knowledge of Lean Six Sigma. Green Belt certification is required in order to participate in the Black Belt training — an initial evaluation may be required. \nAt the end of the training the participant is able to: \n\nmanage teams applying the Lean Six Sigma DMAIC\nidentify areas for project improvement\nmeasure input and output to collect essential data points\nimprove the process with minimal variation.
URL:https://productivity-engineering.eu/calendar/the-netherlands-black-belt-sint-michielsgestel-4/
LOCATION:Hotel De Ruwenberg\, Ruwenbergstraat 7\, Sint-Michielsgestel\, 5271 AG\, Netherlands
CATEGORIES:Lean Six Sigma Black Belt
END:VEVENT
BEGIN:VEVENT
DTSTART;VALUE=DATE:20260831
DTEND;VALUE=DATE:20260905
DTSTAMP:20260424T021305
CREATED:20250920T145008Z
LAST-MODIFIED:20250920T145008Z
UID:9016-1788134400-1788566399@productivity-engineering.eu
SUMMARY:The Netherlands – Green Belt @Sint Michielsgestel
DESCRIPTION:This training has two components: a practical part and a theoretical part. For certification both parts are necessary. The practical part concerns successfully supporting a Lean Six Sigma project. The theoretical part includes the necessary training. An assessment of 25 questions is used to review and determine whether the candidate has sufficiently proven knowledge of Lean Six Sigma. \nAt the end of the training the participant is able to: \n\nsupport teams in applying the Lean Six Sigma DMAIC\ndefine project improvements\nmeasure input and output in order to generate relevant data\nimprove the process to minimise variations
URL:https://productivity-engineering.eu/calendar/the-netherlands-green-belt-sint-michielsgestel-8/
LOCATION:Hotel De Ruwenberg\, Ruwenbergstraat 7\, Sint-Michielsgestel\, 5271 AG\, Netherlands
CATEGORIES:Lean Six Sigma Green Belt
END:VEVENT
BEGIN:VEVENT
DTSTART;VALUE=DATE:20261019
DTEND;VALUE=DATE:20261024
DTSTAMP:20260424T021305
CREATED:20250920T153844Z
LAST-MODIFIED:20250920T153844Z
UID:9036-1792368000-1792799999@productivity-engineering.eu
SUMMARY:UK - Green Belt @Wyboston
DESCRIPTION:This training has two components: a practical part and a theoretical part. For certification both parts are necessary. The practical part concerns successfully supporting a Lean Six Sigma project. The theoretical part includes the necessary training. An assessment of 25 questions is used to review and determine whether the candidate has sufficiently proven knowledge of Lean Six Sigma. \nAt the end of the training the participant is able to: \n\nsupport teams in applying the Lean Six Sigma DMAIC\ndefine project improvements\nmeasure input and output in order to generate relevant data\nimprove the process to minimise variations
URL:https://productivity-engineering.eu/calendar/uk-green-belt-wyboston-7/
LOCATION:Wyboston Lakes\, Great N Rd.\, Wyboston\, MK44 3AL\, United Kingdom
CATEGORIES:Lean Six Sigma Green Belt
END:VEVENT
BEGIN:VEVENT
DTSTART;VALUE=DATE:20261026
DTEND;VALUE=DATE:20261031
DTSTAMP:20260424T021305
CREATED:20250920T145519Z
LAST-MODIFIED:20250920T145519Z
UID:9018-1792972800-1793404799@productivity-engineering.eu
SUMMARY:The Netherlands – Green Belt @Sint Michielsgestel
DESCRIPTION:This training has two components: a practical part and a theoretical part. For certification both parts are necessary. The practical part concerns successfully supporting a Lean Six Sigma project. The theoretical part includes the necessary training. An assessment of 25 questions is used to review and determine whether the candidate has sufficiently proven knowledge of Lean Six Sigma. \nAt the end of the training the participant is able to: \n\nsupport teams in applying the Lean Six Sigma DMAIC\ndefine project improvements\nmeasure input and output in order to generate relevant data\nimprove the process to minimise variations
URL:https://productivity-engineering.eu/calendar/the-netherlands-green-belt-sint-michielsgestel-9/
LOCATION:Hotel De Ruwenberg\, Ruwenbergstraat 7\, Sint-Michielsgestel\, 5271 AG\, Netherlands
CATEGORIES:Lean Six Sigma Green Belt
END:VEVENT
BEGIN:VEVENT
DTSTART;VALUE=DATE:20261026
DTEND;VALUE=DATE:20261031
DTSTAMP:20260424T021305
CREATED:20250920T152614Z
LAST-MODIFIED:20250920T152614Z
UID:9030-1792972800-1793404799@productivity-engineering.eu
SUMMARY:UK – Black Belt @Wyboston
DESCRIPTION:This training has two components: a practical part and a theoretical part. For certification\, completion of both parts are required. The practical part involves participation in a successful Lean Six Sigma project. The theoretical part covers the necessary training. The final evaluation is based on an assessment consisting of 50 questions to determine if the candidate has sufficient knowledge of Lean Six Sigma. Green Belt certification is required in order to participate in the Black Belt training — an initial evaluation may be required. \nAt the end of the training the participant is able to: \n\nmanage teams applying the Lean Six Sigma DMAIC\nidentify areas for project improvement\nmeasure input and output to collect essential data points\nimprove the process with minimal variation.
URL:https://productivity-engineering.eu/calendar/uk-black-belt-wyboston-5/
LOCATION:Wyboston Lakes\, Great N Rd.\, Wyboston\, MK44 3AL\, United Kingdom
CATEGORIES:Lean Six Sigma Black Belt
END:VEVENT
BEGIN:VEVENT
DTSTART;VALUE=DATE:20261109
DTEND;VALUE=DATE:20261114
DTSTAMP:20260424T021305
CREATED:20250920T151215Z
LAST-MODIFIED:20250920T151215Z
UID:9024-1794182400-1794614399@productivity-engineering.eu
SUMMARY:The Netherlands - Black Belt @Sint Michielsgestel
DESCRIPTION:This training has two components: a practical part and a theoretical part. For certification\, completion of both parts are required. The practical part involves participation in a successful Lean Six Sigma project. The theoretical part covers the necessary training. The final evaluation is based on an assessment consisting of 50 questions to determine if the candidate has sufficient knowledge of Lean Six Sigma. Green Belt certification is required in order to participate in the Black Belt training — an initial evaluation may be required. \nAt the end of the training the participant is able to: \n\nmanage teams applying the Lean Six Sigma DMAIC\nidentify areas for project improvement\nmeasure input and output to collect essential data points\nimprove the process with minimal variation.
URL:https://productivity-engineering.eu/calendar/the-netherlands-black-belt-sint-michielsgestel-5/
LOCATION:Hotel De Ruwenberg\, Ruwenbergstraat 7\, Sint-Michielsgestel\, 5271 AG\, Netherlands
CATEGORIES:Lean Six Sigma Black Belt
END:VEVENT
BEGIN:VEVENT
DTSTART;VALUE=DATE:20270125
DTEND;VALUE=DATE:20270130
DTSTAMP:20260424T021305
CREATED:20250920T150026Z
LAST-MODIFIED:20250920T150026Z
UID:9020-1800835200-1801267199@productivity-engineering.eu
SUMMARY:The Netherlands – Green Belt @Sint Michielsgestel
DESCRIPTION:This training has two components: a practical part and a theoretical part. For certification both parts are necessary. The practical part concerns successfully supporting a Lean Six Sigma project. The theoretical part includes the necessary training. An assessment of 25 questions is used to review and determine whether the candidate has sufficiently proven knowledge of Lean Six Sigma. \nAt the end of the training the participant is able to: \n\nsupport teams in applying the Lean Six Sigma DMAIC\ndefine project improvements\nmeasure input and output in order to generate relevant data\nimprove the process to minimise variations
URL:https://productivity-engineering.eu/calendar/the-netherlands-green-belt-sint-michielsgestel-10/
LOCATION:Hotel De Ruwenberg\, Ruwenbergstraat 7\, Sint-Michielsgestel\, 5271 AG\, Netherlands
CATEGORIES:Lean Six Sigma Green Belt
END:VEVENT
BEGIN:VEVENT
DTSTART;VALUE=DATE:20270208
DTEND;VALUE=DATE:20270213
DTSTAMP:20260424T021305
CREATED:20250920T151536Z
LAST-MODIFIED:20250920T151536Z
UID:9026-1802044800-1802476799@productivity-engineering.eu
SUMMARY:The Netherlands - Black Belt @Sint Michielsgestel
DESCRIPTION:This training has two components: a practical part and a theoretical part. For certification\, completion of both parts are required. The practical part involves participation in a successful Lean Six Sigma project. The theoretical part covers the necessary training. The final evaluation is based on an assessment consisting of 50 questions to determine if the candidate has sufficient knowledge of Lean Six Sigma. Green Belt certification is required in order to participate in the Black Belt training — an initial evaluation may be required. \nAt the end of the training the participant is able to: \n\nmanage teams applying the Lean Six Sigma DMAIC\nidentify areas for project improvement\nmeasure input and output to collect essential data points\nimprove the process with minimal variation.
URL:https://productivity-engineering.eu/calendar/the-netherlands-black-belt-sint-michielsgestel-6/
LOCATION:Hotel De Ruwenberg\, Ruwenbergstraat 7\, Sint-Michielsgestel\, 5271 AG\, Netherlands
CATEGORIES:Lean Six Sigma Black Belt
END:VEVENT
BEGIN:VEVENT
DTSTART;VALUE=DATE:20270215
DTEND;VALUE=DATE:20270220
DTSTAMP:20260424T021305
CREATED:20250920T152955Z
LAST-MODIFIED:20250920T152955Z
UID:9032-1802649600-1803081599@productivity-engineering.eu
SUMMARY:UK – Black Belt @Wyboston
DESCRIPTION:This training has two components: a practical part and a theoretical part. For certification\, completion of both parts are required. The practical part involves participation in a successful Lean Six Sigma project. The theoretical part covers the necessary training. The final evaluation is based on an assessment consisting of 50 questions to determine if the candidate has sufficient knowledge of Lean Six Sigma. Green Belt certification is required in order to participate in the Black Belt training — an initial evaluation may be required. \nAt the end of the training the participant is able to: \n\nmanage teams applying the Lean Six Sigma DMAIC\nidentify areas for project improvement\nmeasure input and output to collect essential data points\nimprove the process with minimal variation.
URL:https://productivity-engineering.eu/calendar/uk-black-belt-wyboston-6/
LOCATION:Wyboston Lakes\, Great N Rd.\, Wyboston\, MK44 3AL\, United Kingdom
CATEGORIES:Lean Six Sigma Black Belt
END:VEVENT
BEGIN:VEVENT
DTSTART;VALUE=DATE:20270222
DTEND;VALUE=DATE:20270227
DTSTAMP:20260424T021305
CREATED:20250920T154135Z
LAST-MODIFIED:20250920T154135Z
UID:9038-1803254400-1803686399@productivity-engineering.eu
SUMMARY:UK - Green Belt @Wyboston
DESCRIPTION:This training has two components: a practical part and a theoretical part. For certification both parts are necessary. The practical part concerns successfully supporting a Lean Six Sigma project. The theoretical part includes the necessary training. An assessment of 25 questions is used to review and determine whether the candidate has sufficiently proven knowledge of Lean Six Sigma. \nAt the end of the training the participant is able to: \n\nsupport teams in applying the Lean Six Sigma DMAIC\ndefine project improvements\nmeasure input and output in order to generate relevant data\nimprove the process to minimise variations
URL:https://productivity-engineering.eu/calendar/uk-green-belt-wyboston-8/
LOCATION:Wyboston Lakes\, Great N Rd.\, Wyboston\, MK44 3AL\, United Kingdom
CATEGORIES:Lean Six Sigma Green Belt
END:VEVENT
END:VCALENDAR