BEGIN:VCALENDAR
VERSION:2.0
PRODID:-//Productivity Engineering Europe Company | Lean Six Sigma Business Process Excellence Training - ECPv6.15.20//NONSGML v1.0//EN
CALSCALE:GREGORIAN
METHOD:PUBLISH
X-ORIGINAL-URL:https://productivity-engineering.eu
X-WR-CALDESC:Events for Productivity Engineering Europe Company | Lean Six Sigma Business Process Excellence Training
REFRESH-INTERVAL;VALUE=DURATION:PT1H
X-Robots-Tag:noindex
X-PUBLISHED-TTL:PT1H
BEGIN:VTIMEZONE
TZID:Europe/Brussels
BEGIN:DAYLIGHT
TZOFFSETFROM:+0100
TZOFFSETTO:+0200
TZNAME:CEST
DTSTART:20240331T010000
END:DAYLIGHT
BEGIN:STANDARD
TZOFFSETFROM:+0200
TZOFFSETTO:+0100
TZNAME:CET
DTSTART:20241027T010000
END:STANDARD
BEGIN:DAYLIGHT
TZOFFSETFROM:+0100
TZOFFSETTO:+0200
TZNAME:CEST
DTSTART:20250330T010000
END:DAYLIGHT
BEGIN:STANDARD
TZOFFSETFROM:+0200
TZOFFSETTO:+0100
TZNAME:CET
DTSTART:20251026T010000
END:STANDARD
BEGIN:DAYLIGHT
TZOFFSETFROM:+0100
TZOFFSETTO:+0200
TZNAME:CEST
DTSTART:20260329T010000
END:DAYLIGHT
BEGIN:STANDARD
TZOFFSETFROM:+0200
TZOFFSETTO:+0100
TZNAME:CET
DTSTART:20261025T010000
END:STANDARD
BEGIN:DAYLIGHT
TZOFFSETFROM:+0100
TZOFFSETTO:+0200
TZNAME:CEST
DTSTART:20270328T010000
END:DAYLIGHT
BEGIN:STANDARD
TZOFFSETFROM:+0200
TZOFFSETTO:+0100
TZNAME:CET
DTSTART:20271031T010000
END:STANDARD
END:VTIMEZONE
BEGIN:VEVENT
DTSTART;VALUE=DATE:20260413
DTEND;VALUE=DATE:20260418
DTSTAMP:20260423T225121
CREATED:20250920T141303Z
LAST-MODIFIED:20250920T141303Z
UID:9009-1776038400-1776470399@productivity-engineering.eu
SUMMARY:The Netherlands – Green Belt @Sint Michielsgestel
DESCRIPTION:This training has two components: a practical part and a theoretical part. For certification both parts are necessary. The practical part concerns successfully supporting a Lean Six Sigma project. The theoretical part includes the necessary training. An assessment of 25 questions is used to review and determine whether the candidate has sufficiently proven knowledge of Lean Six Sigma. \nAt the end of the training the participant is able to: \n\nsupport teams in applying the Lean Six Sigma DMAIC\ndefine project improvements\nmeasure input and output in order to generate relevant data\nimprove the process to minimise variations
URL:https://productivity-engineering.eu/calendar/the-netherlands-green-belt-sint-michielsgestel-6/
LOCATION:Hotel De Ruwenberg\, Ruwenbergstraat 7\, Sint-Michielsgestel\, 5271 AG\, Netherlands
CATEGORIES:Lean Six Sigma Green Belt
END:VEVENT
BEGIN:VEVENT
DTSTART;VALUE=DATE:20260202
DTEND;VALUE=DATE:20260207
DTSTAMP:20260423T225121
CREATED:20250321T153122Z
LAST-MODIFIED:20250321T153122Z
UID:8966-1769990400-1770422399@productivity-engineering.eu
SUMMARY:UK - Green Belt @Wyboston
DESCRIPTION:This training has two components: a practical part and a theoretical part. For certification both parts are necessary. The practical part concerns successfully supporting a Lean Six Sigma project. The theoretical part includes the necessary training. An assessment of 25 questions is used to review and determine whether the candidate has sufficiently proven knowledge of Lean Six Sigma. \nAt the end of the training the participant is able to: \n\nsupport teams in applying the Lean Six Sigma DMAIC\ndefine project improvements\nmeasure input and output in order to generate relevant data\nimprove the process to minimise variations
URL:https://productivity-engineering.eu/calendar/uk-green-belt-wyboston-5/
LOCATION:Wyboston Lakes\, Great N Rd.\, Wyboston\, MK44 3AL\, United Kingdom
CATEGORIES:Lean Six Sigma Green Belt
END:VEVENT
BEGIN:VEVENT
DTSTART;VALUE=DATE:20260126
DTEND;VALUE=DATE:20260131
DTSTAMP:20260423T225121
CREATED:20250321T152249Z
LAST-MODIFIED:20250920T143139Z
UID:8960-1769385600-1769817599@productivity-engineering.eu
SUMMARY:Germany - Green Belt @Bad Soden am Taunus
DESCRIPTION:This training has two components: a practical part and a theoretical part. For certification both parts are necessary. The practical part concerns successfully supporting a Lean Six Sigma project. The theoretical part includes the necessary training. An assessment of 25 questions is used to review and determine whether the candidate has sufficiently proven knowledge of Lean Six Sigma. \nAt the end of the training the participant is able to: \n\nsupport teams in applying the Lean Six Sigma DMAIC\ndefine project improvements\nmeasure input and output in order to generate relevant data\nimprove the process to minimise variations
URL:https://productivity-engineering.eu/calendar/germany-green-belt-bad-soden-am-taunus-2/
LOCATION:H+ Hotel Bad Soden\, Königsteiner Str. 88\, Bad Soden am Taunus\, Hessen\,\, 65812\, Germany
CATEGORIES:Lean Six Sigma Green Belt
END:VEVENT
BEGIN:VEVENT
DTSTART;VALUE=DATE:20260126
DTEND;VALUE=DATE:20260131
DTSTAMP:20260423T225121
CREATED:20250321T151305Z
LAST-MODIFIED:20250321T151305Z
UID:8956-1769385600-1769817599@productivity-engineering.eu
SUMMARY:The Netherlands – Green Belt @Sint Michielsgestel
DESCRIPTION:This training has two components: a practical part and a theoretical part. For certification both parts are necessary. The practical part concerns successfully supporting a Lean Six Sigma project. The theoretical part includes the necessary training. An assessment of 25 questions is used to review and determine whether the candidate has sufficiently proven knowledge of Lean Six Sigma. \nAt the end of the training the participant is able to: \n\nsupport teams in applying the Lean Six Sigma DMAIC\ndefine project improvements\nmeasure input and output in order to generate relevant data\nimprove the process to minimise variations
URL:https://productivity-engineering.eu/calendar/the-netherlands-green-belt-sint-michielsgestel-5/
LOCATION:Hotel De Ruwenberg\, Ruwenbergstraat 7\, Sint-Michielsgestel\, 5271 AG\, Netherlands
CATEGORIES:Lean Six Sigma Green Belt
END:VEVENT
BEGIN:VEVENT
DTSTART;VALUE=DATE:20251124
DTEND;VALUE=DATE:20251129
DTSTAMP:20260423T225121
CREATED:20250321T152925Z
LAST-MODIFIED:20250321T152925Z
UID:8964-1763942400-1764374399@productivity-engineering.eu
SUMMARY:UK - Green Belt @Wyboston
DESCRIPTION:This training has two components: a practical part and a theoretical part. For certification both parts are necessary. The practical part concerns successfully supporting a Lean Six Sigma project. The theoretical part includes the necessary training. An assessment of 25 questions is used to review and determine whether the candidate has sufficiently proven knowledge of Lean Six Sigma. \nAt the end of the training the participant is able to: \n\nsupport teams in applying the Lean Six Sigma DMAIC\ndefine project improvements\nmeasure input and output in order to generate relevant data\nimprove the process to minimise variations
URL:https://productivity-engineering.eu/calendar/uk-green-belt-wyboston-4/
LOCATION:Wyboston Lakes\, Great N Rd.\, Wyboston\, MK44 3AL\, United Kingdom
CATEGORIES:Lean Six Sigma Green Belt
END:VEVENT
BEGIN:VEVENT
DTSTART;VALUE=DATE:20251110
DTEND;VALUE=DATE:20251115
DTSTAMP:20260423T225121
CREATED:20250321T151058Z
LAST-MODIFIED:20250321T151058Z
UID:8954-1762732800-1763164799@productivity-engineering.eu
SUMMARY:The Netherlands – Green Belt @Sint Michielsgestel
DESCRIPTION:This training has two components: a practical part and a theoretical part. For certification both parts are necessary. The practical part concerns successfully supporting a Lean Six Sigma project. The theoretical part includes the necessary training. An assessment of 25 questions is used to review and determine whether the candidate has sufficiently proven knowledge of Lean Six Sigma. \nAt the end of the training the participant is able to: \n\nsupport teams in applying the Lean Six Sigma DMAIC\ndefine project improvements\nmeasure input and output in order to generate relevant data\nimprove the process to minimise variations
URL:https://productivity-engineering.eu/calendar/the-netherlands-green-belt-sint-michielsgestel-4/
LOCATION:Hotel De Ruwenberg\, Ruwenbergstraat 7\, Sint-Michielsgestel\, 5271 AG\, Netherlands
CATEGORIES:Lean Six Sigma Green Belt
END:VEVENT
BEGIN:VEVENT
DTSTART;VALUE=DATE:20250915
DTEND;VALUE=DATE:20250920
DTSTAMP:20260423T225121
CREATED:20250321T152715Z
LAST-MODIFIED:20250321T152715Z
UID:8962-1757894400-1758326399@productivity-engineering.eu
SUMMARY:UK - Green Belt @Wyboston
DESCRIPTION:This training has two components: a practical part and a theoretical part. For certification both parts are necessary. The practical part concerns successfully supporting a Lean Six Sigma project. The theoretical part includes the necessary training. An assessment of 25 questions is used to review and determine whether the candidate has sufficiently proven knowledge of Lean Six Sigma. \nAt the end of the training the participant is able to: \n\nsupport teams in applying the Lean Six Sigma DMAIC\ndefine project improvements\nmeasure input and output in order to generate relevant data\nimprove the process to minimise variations
URL:https://productivity-engineering.eu/calendar/uk-green-belt-wyboston-3/
LOCATION:Wyboston Lakes\, Great N Rd.\, Wyboston\, MK44 3AL\, United Kingdom
CATEGORIES:Lean Six Sigma Green Belt
END:VEVENT
BEGIN:VEVENT
DTSTART;VALUE=DATE:20250908
DTEND;VALUE=DATE:20250913
DTSTAMP:20260423T225121
CREATED:20250321T150711Z
LAST-MODIFIED:20250321T150711Z
UID:8952-1757289600-1757721599@productivity-engineering.eu
SUMMARY:The Netherlands – Green Belt @Sint Michielsgestel
DESCRIPTION:This training has two components: a practical part and a theoretical part. For certification both parts are necessary. The practical part concerns successfully supporting a Lean Six Sigma project. The theoretical part includes the necessary training. An assessment of 25 questions is used to review and determine whether the candidate has sufficiently proven knowledge of Lean Six Sigma. \nAt the end of the training the participant is able to: \n\nsupport teams in applying the Lean Six Sigma DMAIC\ndefine project improvements\nmeasure input and output in order to generate relevant data\nimprove the process to minimise variations
URL:https://productivity-engineering.eu/calendar/the-netherlands-green-belt-sint-michielsgestel-3/
LOCATION:Hotel De Ruwenberg\, Ruwenbergstraat 7\, Sint-Michielsgestel\, 5271 AG\, Netherlands
CATEGORIES:Lean Six Sigma Green Belt
END:VEVENT
BEGIN:VEVENT
DTSTART;VALUE=DATE:20250811
DTEND;VALUE=DATE:20250816
DTSTAMP:20260423T225121
CREATED:20250321T152014Z
LAST-MODIFIED:20250321T152014Z
UID:8958-1754870400-1755302399@productivity-engineering.eu
SUMMARY:Germany - Green Belt @Bad Soden am Taunus
DESCRIPTION:This training has two components: a practical part and a theoretical part. For certification both parts are necessary. The practical part concerns successfully supporting a Lean Six Sigma project. The theoretical part includes the necessary training. An assessment of 25 questions is used to review and determine whether the candidate has sufficiently proven knowledge of Lean Six Sigma. \nAt the end of the training the participant is able to: \n\nsupport teams in applying the Lean Six Sigma DMAIC\ndefine project improvements\nmeasure input and output in order to generate relevant data\nimprove the process to minimise variations
URL:https://productivity-engineering.eu/calendar/germany-green-belt-bad-soden-am-taunus/
LOCATION:H+ Hotel Bad Soden\, Königsteiner Str. 88\, Bad Soden am Taunus\, Hessen\,\, 65812\, Germany
CATEGORIES:Lean Six Sigma Green Belt
END:VEVENT
BEGIN:VEVENT
DTSTART;VALUE=DATE:20250811
DTEND;VALUE=DATE:20250816
DTSTAMP:20260423T225121
CREATED:20250117T145936Z
LAST-MODIFIED:20250117T150001Z
UID:8893-1754870400-1755302399@productivity-engineering.eu
SUMMARY:The Netherlands – Green Belt @Sint Michielsgestel
DESCRIPTION:This training has two components: a practical part and a theoretical part. For certification both parts are necessary. The practical part concerns successfully supporting a Lean Six Sigma project. The theoretical part includes the necessary training. An assessment of 25 questions is used to review and determine whether the candidate has sufficiently proven knowledge of Lean Six Sigma. \nAt the end of the training the participant is able to: \n\nsupport teams in applying the Lean Six Sigma DMAIC\ndefine project improvements\nmeasure input and output in order to generate relevant data\nimprove the process to minimise variations
URL:https://productivity-engineering.eu/calendar/the-netherlands-green-belt-sint-michielsgestel-2/
LOCATION:Hotel De Ruwenberg\, Ruwenbergstraat 7\, Sint-Michielsgestel\, 5271 AG\, Netherlands
CATEGORIES:Lean Six Sigma Green Belt
END:VEVENT
BEGIN:VEVENT
DTSTART;VALUE=DATE:20250804
DTEND;VALUE=DATE:20250809
DTSTAMP:20260423T225121
CREATED:20250117T145201Z
LAST-MODIFIED:20250321T140952Z
UID:8891-1754265600-1754697599@productivity-engineering.eu
SUMMARY:Germany – Green Belt @Bad Soden am Taunus
DESCRIPTION:This training has two components: a practical part and a theoretical part. For certification both parts are necessary. The practical part concerns successfully supporting a Lean Six Sigma project. The theoretical part includes the necessary training. An assessment of 25 questions is used to review and determine whether the candidate has sufficiently proven knowledge of Lean Six Sigma. \nAt the end of the training the participant is able to: \n\nsupport teams in applying the Lean Six Sigma DMAIC\ndefine project improvements\nmeasure input and output in order to generate relevant data\nimprove the process to minimise variations
URL:https://productivity-engineering.eu/calendar/germany-green-belt-frankfurt-2/
LOCATION:H+ Hotel Bad Soden\, Königsteiner Str. 88\, Bad Soden am Taunus\, Hessen\, 65812\, Germany
CATEGORIES:Lean Six Sigma Green Belt
END:VEVENT
BEGIN:VEVENT
DTSTART;VALUE=DATE:20250616
DTEND;VALUE=DATE:20250621
DTSTAMP:20260423T225121
CREATED:20250117T144809Z
LAST-MODIFIED:20250117T144809Z
UID:8889-1750032000-1750463999@productivity-engineering.eu
SUMMARY:UK – Green Belt @Wyboston
DESCRIPTION:This training has two components: a practical part and a theoretical part. For certification both parts are necessary. The practical part concerns successfully supporting a Lean Six Sigma project. The theoretical part includes the necessary training. An assessment of 25 questions is used to review and determine whether the candidate has sufficiently proven knowledge of Lean Six Sigma. \nAt the end of the training the participant is able to: \n\nsupport teams in applying the Lean Six Sigma DMAIC\ndefine project improvements\nmeasure input and output in order to generate relevant data\nimprove the process to minimise variations
URL:https://productivity-engineering.eu/calendar/uk-green-belt-wyboston-2/
LOCATION:Wyboston Lakes\, Great N Rd.\, Wyboston\, MK44 3AL\, United Kingdom
CATEGORIES:Lean Six Sigma Green Belt
END:VEVENT
BEGIN:VEVENT
DTSTART;VALUE=DATE:20250512
DTEND;VALUE=DATE:20250517
DTSTAMP:20260423T225121
CREATED:20250117T144221Z
LAST-MODIFIED:20250117T144221Z
UID:8887-1747008000-1747439999@productivity-engineering.eu
SUMMARY:The Netherlands – Green Belt @Sint Michielsgestel
DESCRIPTION:This training has two components: a practical part and a theoretical part. For certification both parts are necessary. The practical part concerns successfully supporting a Lean Six Sigma project. The theoretical part includes the necessary training. An assessment of 25 questions is used to review and determine whether the candidate has sufficiently proven knowledge of Lean Six Sigma. \nAt the end of the training the participant is able to: \n\nsupport teams in applying the Lean Six Sigma DMAIC\ndefine project improvements\nmeasure input and output in order to generate relevant data\nimprove the process to minimise variations
URL:https://productivity-engineering.eu/calendar/the-netherlands-green-belt-sint-michielsgestel/
LOCATION:Hotel De Ruwenberg\, Ruwenbergstraat 7\, Sint-Michielsgestel\, 5271 AG\, Netherlands
CATEGORIES:Lean Six Sigma Green Belt
END:VEVENT
BEGIN:VEVENT
DTSTART;VALUE=DATE:20250505
DTEND;VALUE=DATE:20250510
DTSTAMP:20260423T225121
CREATED:20250117T143658Z
LAST-MODIFIED:20250321T140630Z
UID:8885-1746403200-1746835199@productivity-engineering.eu
SUMMARY:Germany - Green Belt @Bad Soden am Taunus
DESCRIPTION:This training has two components: a practical part and a theoretical part. For certification both parts are necessary. The practical part concerns successfully supporting a Lean Six Sigma project. The theoretical part includes the necessary training. An assessment of 25 questions is used to review and determine whether the candidate has sufficiently proven knowledge of Lean Six Sigma. \nAt the end of the training the participant is able to: \n\nsupport teams in applying the Lean Six Sigma DMAIC\ndefine project improvements\nmeasure input and output in order to generate relevant data\nimprove the process to minimise variations
URL:https://productivity-engineering.eu/calendar/germany-green-belt-frankfurt/
LOCATION:H+ Hotel Bad Soden\, Königsteiner Str. 88\, Bad Soden am Taunus\, Hessen\, 65812\, Germany
CATEGORIES:Lean Six Sigma Green Belt
END:VEVENT
BEGIN:VEVENT
DTSTART;VALUE=DATE:20250407
DTEND;VALUE=DATE:20250412
DTSTAMP:20260423T225121
CREATED:20250117T142810Z
LAST-MODIFIED:20250117T152217Z
UID:8883-1743984000-1744415999@productivity-engineering.eu
SUMMARY:UK - Green Belt @Wyboston
DESCRIPTION:This training has two components: a practical part and a theoretical part. For certification both parts are necessary. The practical part concerns successfully supporting a Lean Six Sigma project. The theoretical part includes the necessary training. An assessment of 25 questions is used to review and determine whether the candidate has sufficiently proven knowledge of Lean Six Sigma. \nAt the end of the training the participant is able to: \n\nsupport teams in applying the Lean Six Sigma DMAIC\ndefine project improvements\nmeasure input and output in order to generate relevant data\nimprove the process to minimise variations
URL:https://productivity-engineering.eu/calendar/uk-green-belt-wyboston/
LOCATION:Wyboston Lakes\, Great N Rd.\, Wyboston\, MK44 3AL\, United Kingdom
CATEGORIES:Lean Six Sigma Green Belt
END:VEVENT
END:VCALENDAR