BEGIN:VCALENDAR
VERSION:2.0
PRODID:-//Productivity Engineering Europe Company | Lean Six Sigma Business Process Excellence Training - ECPv6.15.20//NONSGML v1.0//EN
CALSCALE:GREGORIAN
METHOD:PUBLISH
X-ORIGINAL-URL:https://productivity-engineering.eu
X-WR-CALDESC:Events for Productivity Engineering Europe Company | Lean Six Sigma Business Process Excellence Training
REFRESH-INTERVAL;VALUE=DURATION:PT1H
X-Robots-Tag:noindex
X-PUBLISHED-TTL:PT1H
BEGIN:VTIMEZONE
TZID:Europe/Brussels
BEGIN:DAYLIGHT
TZOFFSETFROM:+0100
TZOFFSETTO:+0200
TZNAME:CEST
DTSTART:20250330T010000
END:DAYLIGHT
BEGIN:STANDARD
TZOFFSETFROM:+0200
TZOFFSETTO:+0100
TZNAME:CET
DTSTART:20251026T010000
END:STANDARD
BEGIN:DAYLIGHT
TZOFFSETFROM:+0100
TZOFFSETTO:+0200
TZNAME:CEST
DTSTART:20260329T010000
END:DAYLIGHT
BEGIN:STANDARD
TZOFFSETFROM:+0200
TZOFFSETTO:+0100
TZNAME:CET
DTSTART:20261025T010000
END:STANDARD
BEGIN:DAYLIGHT
TZOFFSETFROM:+0100
TZOFFSETTO:+0200
TZNAME:CEST
DTSTART:20270328T010000
END:DAYLIGHT
BEGIN:STANDARD
TZOFFSETFROM:+0200
TZOFFSETTO:+0100
TZNAME:CET
DTSTART:20271031T010000
END:STANDARD
END:VTIMEZONE
BEGIN:VEVENT
DTSTART;VALUE=DATE:20260216
DTEND;VALUE=DATE:20260221
DTSTAMP:20260424T002134
CREATED:20250321T153643Z
LAST-MODIFIED:20250321T153643Z
UID:8970-1771200000-1771631999@productivity-engineering.eu
SUMMARY:UK – Black Belt @Wyboston
DESCRIPTION:This training has two components: a practical part and a theoretical part. For certification\, completion of both parts are required. The practical part involves participation in a successful Lean Six Sigma project. The theoretical part covers the necessary training. The final evaluation is based on an assessment consisting of 50 questions to determine if the candidate has sufficient knowledge of Lean Six Sigma. Green Belt certification is required in order to participate in the Black Belt training — an initial evaluation may be required. \nAt the end of the training the participant is able to: \n\nmanage teams applying the Lean Six Sigma DMAIC\nidentify areas for project improvement\nmeasure input and output to collect essential data points\nimprove the process with minimal variation.
URL:https://productivity-engineering.eu/calendar/uk-black-belt-wyboston-3/
LOCATION:Wyboston Lakes\, Great N Rd.\, Wyboston\, MK44 3AL\, United Kingdom
CATEGORIES:Lean Six Sigma Black Belt
END:VEVENT
END:VCALENDAR